BEGIN:VCALENDAR
VERSION:2.0
PRODID:-//University of Utah Press - ECPv6.15.20//NONSGML v1.0//EN
CALSCALE:GREGORIAN
METHOD:PUBLISH
X-WR-CALNAME:University of Utah Press
X-ORIGINAL-URL:https://uofupress.com
X-WR-CALDESC:Events for University of Utah Press
REFRESH-INTERVAL;VALUE=DURATION:PT1H
X-Robots-Tag:noindex
X-PUBLISHED-TTL:PT1H
BEGIN:VTIMEZONE
TZID:America/Denver
BEGIN:DAYLIGHT
TZOFFSETFROM:-0700
TZOFFSETTO:-0600
TZNAME:MDT
DTSTART:20240310T090000
END:DAYLIGHT
BEGIN:STANDARD
TZOFFSETFROM:-0600
TZOFFSETTO:-0700
TZNAME:MST
DTSTART:20241103T080000
END:STANDARD
BEGIN:DAYLIGHT
TZOFFSETFROM:-0700
TZOFFSETTO:-0600
TZNAME:MDT
DTSTART:20250309T090000
END:DAYLIGHT
BEGIN:STANDARD
TZOFFSETFROM:-0600
TZOFFSETTO:-0700
TZNAME:MST
DTSTART:20251102T080000
END:STANDARD
BEGIN:DAYLIGHT
TZOFFSETFROM:-0700
TZOFFSETTO:-0600
TZNAME:MDT
DTSTART:20260308T090000
END:DAYLIGHT
BEGIN:STANDARD
TZOFFSETFROM:-0600
TZOFFSETTO:-0700
TZNAME:MST
DTSTART:20261101T080000
END:STANDARD
END:VTIMEZONE
BEGIN:VEVENT
DTSTART;TZID=America/Denver:20251105T173000
DTEND;TZID=America/Denver:20251105T193000
DTSTAMP:20260419T161951
CREATED:20250814T161346Z
LAST-MODIFIED:20251029T150226Z
UID:8362-1762363800-1762371000@uofupress.com
SUMMARY:Steve Kemp - Malaprops Bookstore
DESCRIPTION:Malaprops Bookstore\, Asheville\, North Carolina with Nancy East! \n  \nJoin us in store or live online when Steve Kemp presents his new book An Exaltation of Parks: John D. Rockefeller Jr.’s Crusade to Save America’s Wonderlands\, in conversation with Nancy East. \nThis is a free hybrid event with the option to attend in-store or online.\n• Click HERE to register for the IN-STORE event.\n• Click HERE to register for the VIRTUAL event.
URL:https://uofupress.com/event/steve-kemp-malaprops-bookstore/
LOCATION:Malaprops Bookstore\, 55 Haywood St\, Asheville\, NC\, 28801\, United States
CATEGORIES:Author Event
END:VEVENT
BEGIN:VEVENT
DTSTART;TZID=America/Denver:20251106T170000
DTEND;TZID=America/Denver:20251106T183000
DTSTAMP:20260419T161951
CREATED:20251029T223029Z
LAST-MODIFIED:20251029T223029Z
UID:9788-1762448400-1762453800@uofupress.com
SUMMARY:Robin Patten - The Mountain: Journeys in High Places - Country Bookshelf\, Bozeman\, MT
DESCRIPTION:Country Bookshelf will be welcoming Robin Patten to discuss her new book\, The Mountain: Journeys in High Places.\n\n\n\nRobin will take audience questions following the program.\n\n\nTickets are not required for this event\, but RSVPs are appreciated. Please visit the event page for more information.
URL:https://uofupress.com/event/robin-patten-the-mountain-journeys-in-high-places-country-bookshelf-bozeman-mt/
LOCATION:Country Bookshelf\, 28 West Main Street\, Bozeman\, MT\, 59715\, United States
END:VEVENT
BEGIN:VEVENT
DTSTART;TZID=America/Denver:20251111T190000
DTEND;TZID=America/Denver:20251111T203000
DTSTAMP:20260419T161951
CREATED:20250814T163906Z
LAST-MODIFIED:20250814T163906Z
UID:8367-1762887600-1762893000@uofupress.com
SUMMARY:Steve Kemp - An Exaltation of Parks: John D Rockefeller's Crusade to Save America's Wonderlands
DESCRIPTION:Steve Kemp will give an overview of his recent book “An Exaltation of Parks: John D. Rockefeller’s Crusade to Save America’s Wonderlands.” \nOver a third of the book is about the creation of the Smokies\, but also includes JDR Jr.’s philanthropy for Yosemite\, Yellowstone\, Grand Teton\, the Blue Ridge Parkway and over a dozen other national parks. The purpose of the book is to encourage partnerships that help parks. \nAs we approach the Smokies centennial\, it’s important to remember the wildly successful collaboration that created GSMNP. \n\nAuthor Steve Kemp has spent most of his adult life working in national parks\, from cook at a park concession in the Grand Tetons to a seasonal ranger in Yellowstone and Denali to publications director for nonprofit park education partner Great Smoky Mountains Association (now Smokies Life). A graduate of the University of Montana’s writing program\, Kemp has written for magazines including National Parks\, Outside\, Outdoor Life\, and Smokies Life Journal\, and is the author of Trees of the Smokies\,Great Smoky Mountains Simply Beautiful\, The Blue Ridge Parkway: In Celebration of the American Landscape (forthcoming) and the children’s book\, We’re Going to the Mountains.
URL:https://uofupress.com/event/steve-kemp-an-exaltation-of-parks-john-d-rockefellers-crusade-to-save-americas-wonderlands/
LOCATION:Tennessee Valley Unitarian Universalist Church\, 2931 Kingston Pike\, Knoxville\, TN\, 37919\, United States
CATEGORIES:Author Event
END:VEVENT
BEGIN:VEVENT
DTSTART;TZID=America/Denver:20251119T093000
DTEND;TZID=America/Denver:20251120T163000
DTSTAMP:20260419T161951
CREATED:20250909T184335Z
LAST-MODIFIED:20250909T184349Z
UID:8714-1763544600-1763656200@uofupress.com
SUMMARY:Watershed Symposium
DESCRIPTION:Free and open to all\, the Salt Lake County Watershed Symposium encourages a comprehensive review of the current state of our watershed while creating learning and networking opportunities for a broad array of stakeholders. Sessions cover water quality and watershed issues with local\, regional\, and national relevance. \nHosted annually by Salt Lake County’s Watershed Planning & Restoration Program.
URL:https://uofupress.com/event/watershed-symposium/
LOCATION:Utah Cultural Celebration Center\, 1355 West 3100 South\, Salt Lake City\, UT\, 84119\, United States
END:VEVENT
BEGIN:VEVENT
DTSTART;VALUE=DATE:20251122
DTEND;VALUE=DATE:20251126
DTSTAMP:20260419T161951
CREATED:20250813T173942Z
LAST-MODIFIED:20250813T202509Z
UID:8325-1763769600-1764115199@uofupress.com
SUMMARY:Middle East Studies Association (MESA)
DESCRIPTION:The MESA is a non-profit association that fosters the study of the Middle East\, promotes high standards of scholarship and teaching\, and encourages public understanding of the region and its peoples through programs\, publications and services that enhance education\, further intellectual exchange\, recognize professional distinction\, and defend academic freedom in accordance with its status as a 501(c)(3) scientific\, educational\, literary\, and charitable organization.
URL:https://uofupress.com/event/middle-east-studies-association-mesa/
LOCATION:Westin Downtown Washington\, DC\, Washington\, DC\, United States
CATEGORIES:Conferences
END:VEVENT
END:VCALENDAR