BEGIN:VCALENDAR
VERSION:2.0
PRODID:-//University of Utah Press - ECPv6.15.20//NONSGML v1.0//EN
CALSCALE:GREGORIAN
METHOD:PUBLISH
X-ORIGINAL-URL:https://uofupress.com
X-WR-CALDESC:Events for University of Utah Press
REFRESH-INTERVAL;VALUE=DURATION:PT1H
X-Robots-Tag:noindex
X-PUBLISHED-TTL:PT1H
BEGIN:VTIMEZONE
TZID:America/Denver
BEGIN:DAYLIGHT
TZOFFSETFROM:-0700
TZOFFSETTO:-0600
TZNAME:MDT
DTSTART:20240310T090000
END:DAYLIGHT
BEGIN:STANDARD
TZOFFSETFROM:-0600
TZOFFSETTO:-0700
TZNAME:MST
DTSTART:20241103T080000
END:STANDARD
BEGIN:DAYLIGHT
TZOFFSETFROM:-0700
TZOFFSETTO:-0600
TZNAME:MDT
DTSTART:20250309T090000
END:DAYLIGHT
BEGIN:STANDARD
TZOFFSETFROM:-0600
TZOFFSETTO:-0700
TZNAME:MST
DTSTART:20251102T080000
END:STANDARD
BEGIN:DAYLIGHT
TZOFFSETFROM:-0700
TZOFFSETTO:-0600
TZNAME:MDT
DTSTART:20260308T090000
END:DAYLIGHT
BEGIN:STANDARD
TZOFFSETFROM:-0600
TZOFFSETTO:-0700
TZNAME:MST
DTSTART:20261101T080000
END:STANDARD
END:VTIMEZONE
BEGIN:VEVENT
DTSTART;VALUE=DATE:20251005
DTEND;VALUE=DATE:20251013
DTSTAMP:20260419T175056
CREATED:20250813T224206Z
LAST-MODIFIED:20250814T002320Z
UID:8354-1759622400-1760313599@uofupress.com
SUMMARY:Steve Kemp - Iowa City Book Festival
DESCRIPTION:The 17th annual Iowa City Book Festival will be held Oct. 5-12\, 2025\, at locations throughout downtown and beyond. It will showcase a dynamic mix of original events and collaborative programs with partner organizations\, all celebrating the power of the written word and the exchange of ideas. \nDates and event listings for the 2025 festival will be posted when they are available.
URL:https://uofupress.com/event/steve-kemp-iowa-city-book-festival/
LOCATION:Iowa City\, IA\, IA\, United States
CATEGORIES:Author Event
END:VEVENT
BEGIN:VEVENT
DTSTART;TZID=America/Denver:20251011T080000
DTEND;TZID=America/Denver:20251012T170000
DTSTAMP:20260419T175056
CREATED:20250813T211320Z
LAST-MODIFIED:20250813T211336Z
UID:8340-1760169600-1760288400@uofupress.com
SUMMARY:Wasatch Festival of Books at Library Square
DESCRIPTION:The Wasatch Festival of Books at Library Square will take place on Friday\, October 11 and Saturday\, October 12. All events are at the Salt Lake City Public Library’s Main Library in downtown Salt Lake City. \nBringing together a variety of acclaimed authors\, readings\, and interactive public events\, this two-day event is a community celebration of the power of reading—for all ages\, and in all its forms. (And yes\, for people who love genre stories\, graphic novels\, and audiobooks\, this is your festival too!) All events are free and open to the public. 
URL:https://uofupress.com/event/wasatch-festival-of-books-at-library-square/
LOCATION:Salt Lake City Public Library\, 210 East 400 South\, Salt Lake City\, Utah\, 84111
CATEGORIES:Conferences
END:VEVENT
BEGIN:VEVENT
DTSTART;VALUE=DATE:20251015
DTEND;VALUE=DATE:20251019
DTSTAMP:20260419T175056
CREATED:20250813T165940Z
LAST-MODIFIED:20250813T203302Z
UID:8315-1760486400-1760831999@uofupress.com
SUMMARY:Great Basin Anthropological Association (GBAA)
DESCRIPTION:The GBAA promotes the study of the peoples and cultures of the Great Basin of the western United States and its relationship to adjacent regions. \nJoin Us in RENO\, NEVADA for the 39th Biennial GBAC – OCTOBER 15-18\, 2025
URL:https://uofupress.com/event/great-basin-anthropological-association-gbaa/
LOCATION:Whitney Peak Hotel\, NV\, 255 N Virginia St\, Reno\, NV\, 89501\, United States
CATEGORIES:Conferences
END:VEVENT
BEGIN:VEVENT
DTSTART;VALUE=DATE:20251015
DTEND;VALUE=DATE:20251019
DTSTAMP:20260419T175056
CREATED:20250813T171130Z
LAST-MODIFIED:20250813T203248Z
UID:8319-1760486400-1760831999@uofupress.com
SUMMARY:Western History Association (WHA)
DESCRIPTION:The Western History Association’s annual conference is a four-day event scheduled in October. It features over 120 sessions\, roundtables\, workshops\, and professional panels on all aspects of the North American West. Participants enjoy meals\, receptions\, awards ceremonies\, and tours to nearby historic sites and cultural centers. \n  \n 
URL:https://uofupress.com/event/western-history-association-wha-3/
LOCATION:Convention Center\, Albuquerque\, NM\, United States
CATEGORIES:Conferences
END:VEVENT
END:VCALENDAR