BEGIN:VCALENDAR
VERSION:2.0
PRODID:-//University of Utah Press - ECPv6.15.20//NONSGML v1.0//EN
CALSCALE:GREGORIAN
METHOD:PUBLISH
X-WR-CALNAME:University of Utah Press
X-ORIGINAL-URL:https://uofupress.com
X-WR-CALDESC:Events for University of Utah Press
REFRESH-INTERVAL;VALUE=DURATION:PT1H
X-Robots-Tag:noindex
X-PUBLISHED-TTL:PT1H
BEGIN:VTIMEZONE
TZID:America/Denver
BEGIN:DAYLIGHT
TZOFFSETFROM:-0700
TZOFFSETTO:-0600
TZNAME:MDT
DTSTART:20240310T090000
END:DAYLIGHT
BEGIN:STANDARD
TZOFFSETFROM:-0600
TZOFFSETTO:-0700
TZNAME:MST
DTSTART:20241103T080000
END:STANDARD
BEGIN:DAYLIGHT
TZOFFSETFROM:-0700
TZOFFSETTO:-0600
TZNAME:MDT
DTSTART:20250309T090000
END:DAYLIGHT
BEGIN:STANDARD
TZOFFSETFROM:-0600
TZOFFSETTO:-0700
TZNAME:MST
DTSTART:20251102T080000
END:STANDARD
BEGIN:DAYLIGHT
TZOFFSETFROM:-0700
TZOFFSETTO:-0600
TZNAME:MDT
DTSTART:20260308T090000
END:DAYLIGHT
BEGIN:STANDARD
TZOFFSETFROM:-0600
TZOFFSETTO:-0700
TZNAME:MST
DTSTART:20261101T080000
END:STANDARD
END:VTIMEZONE
BEGIN:VEVENT
DTSTART;VALUE=DATE:20250605
DTEND;VALUE=DATE:20250609
DTSTAMP:20260419T235647
CREATED:20250428T191325Z
LAST-MODIFIED:20250813T203423Z
UID:6459-1749081600-1749427199@uofupress.com
SUMMARY:Mormon History Association Conference
DESCRIPTION:The Mormon History Association invites you to Ogden\, Utah for its sixtieth annual conference to be held June 5-8\, 2025. Situated on the Ogden and Weber Rivers near where they join the Great Salt Lake\, and nicknamed “Junction City” when it became the connecting point between numerous railroad lines\, Ogden has long been a site of junctions. Long before Latter-day Saints dreamed of an American Zion in the Great Basin\, ancestors of Shoshone and other indigenous peoples criss-crossed the region\, establishing trade networks and sharing languages\, settlements\, and cultures. \nOgden highlights a confluence of events and dynamics that shaped Mormon settlement\, identity\, and culture\, and ensured that the tradition would always be intertwined with the wider world. The railroad especially brought diverse groups to Ogden. Wealthy investors and industrialists as well as Black Americans and Chinese\, Japanese\, German\, and Irish immigrants were drawn to the burgeoning railroad town and its economic opportunities\, bringing greater influence from the margins. They built communities that both constituted and contradicted centers of Latter-day Saint power\, resulting in diversity\, and alternative directions. Conversely\, families like Apostle Franklin D. and Jane S. Richards represented Ogden’s influence on the highest levels of the church.
URL:https://uofupress.com/event/mormon-history-association-conference/
LOCATION:Ogden\, UT\, Ogden\, UT\, United States
CATEGORIES:Conferences
END:VEVENT
END:VCALENDAR