BEGIN:VCALENDAR
VERSION:2.0
PRODID:-//University of Utah Press - ECPv6.15.20//NONSGML v1.0//EN
CALSCALE:GREGORIAN
METHOD:PUBLISH
X-WR-CALNAME:University of Utah Press
X-ORIGINAL-URL:https://uofupress.com
X-WR-CALDESC:Events for University of Utah Press
REFRESH-INTERVAL;VALUE=DURATION:PT1H
X-Robots-Tag:noindex
X-PUBLISHED-TTL:PT1H
BEGIN:VTIMEZONE
TZID:America/Denver
BEGIN:DAYLIGHT
TZOFFSETFROM:-0700
TZOFFSETTO:-0600
TZNAME:MDT
DTSTART:20240310T090000
END:DAYLIGHT
BEGIN:STANDARD
TZOFFSETFROM:-0600
TZOFFSETTO:-0700
TZNAME:MST
DTSTART:20241103T080000
END:STANDARD
BEGIN:DAYLIGHT
TZOFFSETFROM:-0700
TZOFFSETTO:-0600
TZNAME:MDT
DTSTART:20250309T090000
END:DAYLIGHT
BEGIN:STANDARD
TZOFFSETFROM:-0600
TZOFFSETTO:-0700
TZNAME:MST
DTSTART:20251102T080000
END:STANDARD
BEGIN:DAYLIGHT
TZOFFSETFROM:-0700
TZOFFSETTO:-0600
TZNAME:MDT
DTSTART:20260308T090000
END:DAYLIGHT
BEGIN:STANDARD
TZOFFSETFROM:-0600
TZOFFSETTO:-0700
TZNAME:MST
DTSTART:20261101T080000
END:STANDARD
END:VTIMEZONE
BEGIN:VEVENT
DTSTART;TZID=America/Denver:20250123T110000
DTEND;TZID=America/Denver:20250123T110000
DTSTAMP:20260421T190407
CREATED:20250113T172953Z
LAST-MODIFIED:20250127T200839Z
UID:6263-1737630000-1737630000@uofupress.com
SUMMARY:Steven Simms - First Peoples of Great Salt Lake
DESCRIPTION:Steven Simms (Professor Emeritus of Anthropology\, Utah State University) \nFirst Peoples of Great Salt Lake: A Cultural Landscape from Nevada to Wyoming \nB192 JFSB Education in Zion Auditorium
URL:https://uofupress.com/event/steven-simms/
LOCATION:Joseph F. Smith Building (BYU)\, 1100 Campus Drive\, Provo\, UT\, 84604\, United States
CATEGORIES:Author Event
END:VEVENT
BEGIN:VEVENT
DTSTART;TZID=America/Denver:20250123T120000
DTEND;TZID=America/Denver:20250123T130000
DTSTAMP:20260421T190407
CREATED:20250121T173931Z
LAST-MODIFIED:20250121T173958Z
UID:6277-1737633600-1737637200@uofupress.com
SUMMARY:Faith and the Fight: France Davis
DESCRIPTION:One of the most foundational roles that civil rights leader Martin Luther King\, Jr. served in was as a religious leader. He first served as pastor at the Dexter Avenue Baptist Church in Montgomery\, Alabama and then later became co-pastor\, along with his father\, of the Ebenezer Baptist Church in Atlanta\, Georgia. \n\n\nIn addition to being a center of worship\, what has been the role in the Black Church in the fight for equal rights? Does the Black Church of today serve as a space for inspiring and mobilizing its members? \n\n\n\n\nIn celebration of Martin Luther King\, Jr.’s tireless work\, please join us for a discussion\, led by Pastor Emeritus France Davis (retired from Calvary Baptist Church in Salt Lake City)\, and including pastors from several Black Churches along the Wasatch Front. \n\n\n\n\n\n\n\n\nModerator:\n\n\n\n\nPastor Emeritus France Davis\n(retired from Calvary Baptist Church\, Salt Lake City) \n\n\n\n\n\n\n\n\n\n\n\n\n\n\n\n\n\n\n\n\n\n\n\n\n\n\nPanelists:\n\n\n\n\n\n\n\n\n\n\n\n\n\n\nPastor Vada Southern\,\nPastor at Embry Chapel\, A.M.E.\, Ogden \n\n\n\n\n\n\n\n\n\n\nPastor Bobby Allen\, Jr.\,\nPastor at Griffin Memorial Church of God in Christ\, Ogden \n\n\n\n\n\n\n\n\n\n\nBishop Bobby Allen\,\nJurisdiction Bishop of the Churches of God in Christ for Utah And Pastor of the Kingdom Church of God in Christ\, Salt Lake City \n\n\n\n\n\n\n\n\n\n\nPastor Charles Petty\,\nPastor of the Second Baptist Church\, Ogden
URL:https://uofupress.com/event/faith-and-the-fight-france-davis/
LOCATION:J. Willard Marriott Library\, Gould Auditorium\, 295 S 1500 E\, Salt Lake City\, Utah\, 84112
CATEGORIES:Author Event
END:VEVENT
END:VCALENDAR