BEGIN:VCALENDAR
VERSION:2.0
PRODID:-//University of Utah Press - ECPv6.15.20//NONSGML v1.0//EN
CALSCALE:GREGORIAN
METHOD:PUBLISH
X-WR-CALNAME:University of Utah Press
X-ORIGINAL-URL:https://uofupress.com
X-WR-CALDESC:Events for University of Utah Press
REFRESH-INTERVAL;VALUE=DURATION:PT1H
X-Robots-Tag:noindex
X-PUBLISHED-TTL:PT1H
BEGIN:VTIMEZONE
TZID:America/Denver
BEGIN:DAYLIGHT
TZOFFSETFROM:-0700
TZOFFSETTO:-0600
TZNAME:MDT
DTSTART:20230312T090000
END:DAYLIGHT
BEGIN:STANDARD
TZOFFSETFROM:-0600
TZOFFSETTO:-0700
TZNAME:MST
DTSTART:20231105T080000
END:STANDARD
BEGIN:DAYLIGHT
TZOFFSETFROM:-0700
TZOFFSETTO:-0600
TZNAME:MDT
DTSTART:20240310T090000
END:DAYLIGHT
BEGIN:STANDARD
TZOFFSETFROM:-0600
TZOFFSETTO:-0700
TZNAME:MST
DTSTART:20241103T080000
END:STANDARD
BEGIN:DAYLIGHT
TZOFFSETFROM:-0700
TZOFFSETTO:-0600
TZNAME:MDT
DTSTART:20250309T090000
END:DAYLIGHT
BEGIN:STANDARD
TZOFFSETFROM:-0600
TZOFFSETTO:-0700
TZNAME:MST
DTSTART:20251102T080000
END:STANDARD
END:VTIMEZONE
BEGIN:VEVENT
DTSTART;TZID=America/Denver:20241001T120000
DTEND;TZID=America/Denver:20241001T120000
DTSTAMP:20260421T144059
CREATED:20240730T214613Z
LAST-MODIFIED:20240930T160623Z
UID:4359-1727784000-1727784000@uofupress.com
SUMMARY:Gary E. Machlis on Sustainability for the Forgotten
DESCRIPTION:Due to the hurricane Helene\, we’ve regrettably had to cancel this event. We hope to be able to host Gary Machlis in the future. Please watch our webpage for further details. If you’d like to purchase the book\, use the discount code MACHLIS25 for 25% off the book on our website: https://uofupress.com/books/sustainability-for-the-forgotten/ \nQuestions? Contact Hannah.New@utah.edu. Thank you for your understanding. \n  \n  \nSustainability for the Forgotten is an incendiary book that confronts the history\, policies\, and practices of sustainability. It interrogates the usefulness of current sustainability approaches for the poorest of the poor\, the chronic underclass\, victims of natural disasters\, refugees\, the oppressed\, and asks\, how can we do better? With examples that range from the coffeelands of El Salvador to the coal country of American Appalachia\, from the streets of Detroit to refugee camps in Greece and the upscale metro centers of the affluent\, sustainability is examined with a critical eye and with an emphasis on insuring that the forgotten are heard. \nListen to Gary Machlis as he challenges the sustainability movement to follow “a just and necessary path” and provides a call to action that is ultimately hopeful. \nGary E. Machlis is University Professor of Environmental Sustainability at Clemson University. He is an elected Fellow of the American Association for the Advancement of Science\, and member of the National Academies of Sciences\, Engineering\, and Medicine’s Roundtable on Science and Technology for Sustainability and its Board on Environmental Change and Society. He has written widely on issues of conservation\, science policy\, and sustainability. \nLight refreshments will be served.
URL:https://uofupress.com/event/gary-machlis-on-sustainability-for-the-forgotten/
LOCATION:J. Willard Marriott Library\, Gould Auditorium\, 295 S 1500 E\, Salt Lake City\, Utah\, 84112
CATEGORIES:Author Event
END:VEVENT
BEGIN:VEVENT
DTSTART;TZID=America/Denver:20241018T160000
DTEND;TZID=America/Denver:20241018T170000
DTSTAMP:20260421T144059
CREATED:20240730T221153Z
LAST-MODIFIED:20240730T221153Z
UID:4947-1729267200-1729270800@uofupress.com
SUMMARY:Stories from the Arches with Jeff Nichols
DESCRIPTION:The extraordinary landscape of what we now call Arches National Park thrills millions of visitors every year. But people have also lived and worked in the area since long before it was a park. Jeff Nichols shares stories from the Arches\, featured in the new anthology\, The Arches Reader.
URL:https://uofupress.com/event/stories-from-the-arches-with-jeff-nichols/
LOCATION:Salt Lake City Public Library\, 210 East 400 South\, Salt Lake City\, Utah\, 84111
CATEGORIES:Author Event
END:VEVENT
BEGIN:VEVENT
DTSTART;VALUE=DATE:20241023
DTEND;VALUE=DATE:20241027
DTSTAMP:20260421T144059
CREATED:20240730T220853Z
LAST-MODIFIED:20240730T220853Z
UID:4362-1729641600-1729987199@uofupress.com
SUMMARY:Western History Association (WHA)
DESCRIPTION:The 64th Annual WHA Conference will be hosted at the Westin Kansas City at Crown Center from October 23-26 (Wednesday-Saturday). The 2024 conference will be held concurrently with the Southern Historical Association.  \nThe 2024 WHA President is Kelly Lytle Hernández\, a professor of History\, African American Studies\, and Urban Planning at UCLA where she holds The Thomas E. Lifka Endowed Chair in History and directs the Ralph J. Bunche Center for African American Studies. One of the nation’s leading experts on race\, immigration\, and mass incarceration\, she is the author of Migra! A History of the U.S. Border Patrol (University of California Press\, 2010)\, City of Inmates: Conquest\, Rebellion\, and the Rise of Human Caging in Los Angeles  (University of North Carolina Press\, 2017)\, and the book Bad Mexicans: Race\, Empire\, and Revolution in the Borderlands (Norton\, 2022).
URL:https://uofupress.com/event/western-history-association-wha-2/
LOCATION:Kansas City\, MO
CATEGORIES:Conferences
END:VEVENT
END:VCALENDAR