BEGIN:VCALENDAR
VERSION:2.0
PRODID:-//University of Utah Press - ECPv6.15.20//NONSGML v1.0//EN
CALSCALE:GREGORIAN
METHOD:PUBLISH
X-ORIGINAL-URL:https://uofupress.com
X-WR-CALDESC:Events for University of Utah Press
REFRESH-INTERVAL;VALUE=DURATION:PT1H
X-Robots-Tag:noindex
X-PUBLISHED-TTL:PT1H
BEGIN:VTIMEZONE
TZID:America/Denver
BEGIN:DAYLIGHT
TZOFFSETFROM:-0700
TZOFFSETTO:-0600
TZNAME:MDT
DTSTART:20230312T090000
END:DAYLIGHT
BEGIN:STANDARD
TZOFFSETFROM:-0600
TZOFFSETTO:-0700
TZNAME:MST
DTSTART:20231105T080000
END:STANDARD
BEGIN:DAYLIGHT
TZOFFSETFROM:-0700
TZOFFSETTO:-0600
TZNAME:MDT
DTSTART:20240310T090000
END:DAYLIGHT
BEGIN:STANDARD
TZOFFSETFROM:-0600
TZOFFSETTO:-0700
TZNAME:MST
DTSTART:20241103T080000
END:STANDARD
BEGIN:DAYLIGHT
TZOFFSETFROM:-0700
TZOFFSETTO:-0600
TZNAME:MDT
DTSTART:20250309T090000
END:DAYLIGHT
BEGIN:STANDARD
TZOFFSETFROM:-0600
TZOFFSETTO:-0700
TZNAME:MST
DTSTART:20251102T080000
END:STANDARD
END:VTIMEZONE
BEGIN:VEVENT
DTSTART;TZID=America/Denver:20240605T183000
DTEND;TZID=America/Denver:20240605T200000
DTSTAMP:20260421T091419
CREATED:20240513T143500Z
LAST-MODIFIED:20240522T184342Z
UID:3954-1717612200-1717617600@uofupress.com
SUMMARY:A Conversation on Mormon Biographies
DESCRIPTION:  \nCelebrate 75 years of publishing with the University of Utah Press with a conversation on Mormon biographies. Join Stephen Taysom\, Gregory A. Prince\, Lindsay Hansen Park\, and Richard Saunders with Jedediah Rogers as they discuss their approaches to biography and contributions to Mormon studies. \nBiography is a popular genre among the general public. The study of human lives is also essential to the study of history\, as it uses individuals as a lens to examine historical questions or themes. Good biography reveals intimate connections between people\, communities\, and events sometimes missing in traditional works of history. \nProminent biographers of the Mormon experience will join a lively conversation to reflect on their own work and the craft of biography. The event promises to be a critical examination of the genre and a celebration of seminal biographies published by the University of Utah Press. \n 
URL:https://uofupress.com/event/a-conversation-on-mormon-biographies/
LOCATION:Online
CATEGORIES:Author Event
ATTACH;FMTTYPE=image/jpeg:https://uofupress.com/wp-content/uploads/sites/55/2024/05/UUP75-logo01@3x.jpg
END:VEVENT
BEGIN:VEVENT
DTSTART;VALUE=DATE:20240613
DTEND;VALUE=DATE:20240617
DTSTAMP:20260421T091419
CREATED:20240124T212206Z
LAST-MODIFIED:20240124T212206Z
UID:3368-1718236800-1718582399@uofupress.com
SUMMARY:Mormon History Association (MHA)
DESCRIPTION:The 59th Annual Mormon History Association conference will take place on June 13-16\, 2024 in Kirtland\, Ohio. The theme\, “Conversions\, Aversion\, and Reversion: Mormon Identity from Ohio to Utah\,” invites scholars to think about the ways Restorationists constructed their identity in their interaction with people\, ideas\, time\, and space.
URL:https://uofupress.com/event/mormon-history-association-mha/
LOCATION:Kirkland\, OH
CATEGORIES:Conferences
END:VEVENT
END:VCALENDAR