BEGIN:VCALENDAR
VERSION:2.0
PRODID:-//University of Utah Press - ECPv6.15.20//NONSGML v1.0//EN
CALSCALE:GREGORIAN
METHOD:PUBLISH
X-ORIGINAL-URL:https://uofupress.com
X-WR-CALDESC:Events for University of Utah Press
REFRESH-INTERVAL;VALUE=DURATION:PT1H
X-Robots-Tag:noindex
X-PUBLISHED-TTL:PT1H
BEGIN:VTIMEZONE
TZID:America/Denver
BEGIN:DAYLIGHT
TZOFFSETFROM:-0700
TZOFFSETTO:-0600
TZNAME:MDT
DTSTART:20230312T090000
END:DAYLIGHT
BEGIN:STANDARD
TZOFFSETFROM:-0600
TZOFFSETTO:-0700
TZNAME:MST
DTSTART:20231105T080000
END:STANDARD
BEGIN:DAYLIGHT
TZOFFSETFROM:-0700
TZOFFSETTO:-0600
TZNAME:MDT
DTSTART:20240310T090000
END:DAYLIGHT
BEGIN:STANDARD
TZOFFSETFROM:-0600
TZOFFSETTO:-0700
TZNAME:MST
DTSTART:20241103T080000
END:STANDARD
BEGIN:DAYLIGHT
TZOFFSETFROM:-0700
TZOFFSETTO:-0600
TZNAME:MDT
DTSTART:20250309T090000
END:DAYLIGHT
BEGIN:STANDARD
TZOFFSETFROM:-0600
TZOFFSETTO:-0700
TZNAME:MST
DTSTART:20251102T080000
END:STANDARD
END:VTIMEZONE
BEGIN:VEVENT
DTSTART;VALUE=DATE:20240502
DTEND;VALUE=DATE:20240506
DTSTAMP:20260421T075304
CREATED:20240124T211223Z
LAST-MODIFIED:20240124T211223Z
UID:3365-1714608000-1714953599@uofupress.com
SUMMARY:Rocky Mountain Anthropological Conference (RMAC)
DESCRIPTION:Biennially since 1993\, the Rocky Mountain Anthropological Association has brought together anthropologists and researchers in allied fields whose work focuses on the Rocky Mountains of North America in the United States and\nCanada. The purpose of these gatherings is to provide attendees a forum for discussing common issues and problems\, comparing data\, and sharing information and insights about this vast\, varied\, and fascinating region.
URL:https://uofupress.com/event/rocky-mountain-anthropological-conference-rmac-2/
LOCATION:Laramie\, WY
CATEGORIES:Conferences
END:VEVENT
BEGIN:VEVENT
DTSTART;TZID=America/Denver:20240510T180000
DTEND;TZID=America/Denver:20240510T200000
DTSTAMP:20260421T075304
CREATED:20240501T152801Z
LAST-MODIFIED:20240501T153437Z
UID:3937-1715364000-1715371200@uofupress.com
SUMMARY:The Arches Reader Book Release and Signing with Jeffrey Nichols
DESCRIPTION:Ken Sanders Rare Books will host Jeffrey Nichols for a discussion and signing of his new book The Arches Reader. Ken Sanders will read his contribution to the book. Discussion will be followed by an audience Q&A and book signing. \nGeology is the star attraction in many national parks\, but Arches National Park reveals erosional wonders like no other place on earth. There’s something thrilling and slightly unsettling about a massive rock with a hole in its middle or a ribbon of stone flung like a spider’s thread from one rock face to another. And there’s nothing quite like a view of blue sky or snow-capped mountains framed by stone. So many stony holes of so many shapes and sizes abound here that people spend years hunting unrecorded arches\, quarreling over measurements and categories\, and dreaming up original names. \nPart of the National Park Readers series\, The Arches Reader is an anthology of writing about Arches National Park and the surrounding area. The selections range from creative nonfiction to short fiction to poetry to amateur versions of scientific reports; they are wide-ranging and have never before been collected in one place; several selections are previously unpublished. Photographs collected here include both historic black-and-white images and beautiful\, full-color images of some of Arches’ most striking features. The Arches Reader is an essential companion for anyone who wants to better understand its unique natural and human past. \nDr. Jeff Nichols is a full-time professor at Westminster University. He specializes in politics and current events\, nineteenth century American West\, Gilded Age\, Progressive Era\, Prostitution in Salt Lake City\, and Environmental history. \nReviews \n“If you want to know Arches National Park\, and you’ve read Edward Abbey’s Desert Solitaire\, your next book needs to be The Arches Reader. Jeff Nichols is a historian\, and he shows here his respect for fascinating original sources and excerpts long enough to capture their full-throated flavor. Many stories in Nichols’s anthology feature park rangers and their families who turn out to be the colorful opposite of faceless bureaucrats. Arches sits on the bank of the Colorado River just outside Moab\, and so this collection extends beyond the park to include uranium hunters\, pilgrim poets\, cranky environmentalists\, and early outfitters. Nichols uses Arches as a springboard into Colorado Plateau environmental history and rural Utah culture. It’s a worthy plunge into vastly enjoyable territory.”\n– Stephen Trimble\, editor of The Capitol Reef Reader and Red Rock Stories \n“Arches’ story is unique\, tied so closely as it is to the fate of its adjacent community. I’m not sure that any other park can tell quite the same story of an explosion in popularity and a community’s attendant ambivalence. And its sometimes despair.”\n-Jen Jackson Quintano\, author of Blow Sand in His Soul: Bates Wilson\, the Heart of Canyonlands \nMore about The Arches Reader can be found at:\nhttps://uofupress.com/books/the-arches-reader/\nInquiries can be directed to:\nHattie MacLeod (Ken Sanders Rare Books) – hattie@kensandersbooks.com\nHannah New (University of Utah Press) – hannah.new@utah.edu\nJeff Nichols Ph.D – jnichols@westminsteru.edu
URL:https://uofupress.com/event/the-arches-reader-book-release-and-signing-with-jeffrey-nichols/
LOCATION:Ken Sanders Rare Books\, 209 East 500 South\, Salt Lake City\, Utah\, 84111
CATEGORIES:Author Event
ATTACH;FMTTYPE=image/png:https://uofupress.com/wp-content/uploads/sites/55/2024/05/Arches-Reader-Social-Post.png
ORGANIZER;CN="Ken Sanders Rare Books":MAILTO:hattie@kensandersbooks.com
END:VEVENT
END:VCALENDAR