BEGIN:VCALENDAR
VERSION:2.0
PRODID:-//University of Utah Press - ECPv6.15.20//NONSGML v1.0//EN
CALSCALE:GREGORIAN
METHOD:PUBLISH
X-ORIGINAL-URL:https://uofupress.com
X-WR-CALDESC:Events for University of Utah Press
REFRESH-INTERVAL;VALUE=DURATION:PT1H
X-Robots-Tag:noindex
X-PUBLISHED-TTL:PT1H
BEGIN:VTIMEZONE
TZID:America/Denver
BEGIN:DAYLIGHT
TZOFFSETFROM:-0700
TZOFFSETTO:-0600
TZNAME:MDT
DTSTART:20230312T090000
END:DAYLIGHT
BEGIN:STANDARD
TZOFFSETFROM:-0600
TZOFFSETTO:-0700
TZNAME:MST
DTSTART:20231105T080000
END:STANDARD
BEGIN:DAYLIGHT
TZOFFSETFROM:-0700
TZOFFSETTO:-0600
TZNAME:MDT
DTSTART:20240310T090000
END:DAYLIGHT
BEGIN:STANDARD
TZOFFSETFROM:-0600
TZOFFSETTO:-0700
TZNAME:MST
DTSTART:20241103T080000
END:STANDARD
BEGIN:DAYLIGHT
TZOFFSETFROM:-0700
TZOFFSETTO:-0600
TZNAME:MDT
DTSTART:20250309T090000
END:DAYLIGHT
BEGIN:STANDARD
TZOFFSETFROM:-0600
TZOFFSETTO:-0700
TZNAME:MST
DTSTART:20251102T080000
END:STANDARD
END:VTIMEZONE
BEGIN:VEVENT
DTSTART;VALUE=DATE:20240403
DTEND;VALUE=DATE:20240408
DTSTAMP:20260421T045943
CREATED:20240124T205915Z
LAST-MODIFIED:20240124T211354Z
UID:3357-1712102400-1712534399@uofupress.com
SUMMARY:American Society for Environmental History (ASEH)
DESCRIPTION:The American Society for Environmental History conference will explore the roles of extractivism and speculation in changing climates of many kinds\, with attention to the diverse valences of these categories: from histories of industrial speculation about and extraction of fossil fuels; to extraction of wealth to colonial metropoles; to the role of history in speculation about our environmental futures; to extraction of environmental knowledge from Black\, Indigenous\, and other communities of color.
URL:https://uofupress.com/event/american-society-for-environmental-history-aseh/
LOCATION:Denver\, CO
CATEGORIES:Conferences
END:VEVENT
BEGIN:VEVENT
DTSTART;VALUE=DATE:20240410
DTEND;VALUE=DATE:20240414
DTSTAMP:20260421T045943
CREATED:20240124T210629Z
LAST-MODIFIED:20240124T211354Z
UID:3360-1712707200-1713052799@uofupress.com
SUMMARY:National Council on Public History with the Utah Historical Society (NCPH UHS)
DESCRIPTION:Historical Agency: Putting History to Work in the World
URL:https://uofupress.com/event/national-council-on-public-history-with-the-utah-historical-society-ncph-uhs/
LOCATION:Salt Lake City\, UT
CATEGORIES:Conferences
END:VEVENT
BEGIN:VEVENT
DTSTART;VALUE=DATE:20240417
DTEND;VALUE=DATE:20240422
DTSTAMP:20260421T045943
CREATED:20240124T210925Z
LAST-MODIFIED:20240124T211354Z
UID:3362-1713312000-1713743999@uofupress.com
SUMMARY:Society for American Archaeology (SAA)
DESCRIPTION:The SAA Annual Meeting is the largest gathering of archaeologists of the Americas\, and it offers unparalleled networking opportunities in its exhibit hall\, excursions\, and receptions and career-development opportunities. \nThe meeting has a wide audience that ranges from anyone who has interest in archaeology to experts in the field. Attendees come from all over the United States and from over 45 countries! With a wide variety of presentations and events\, attendees are able to learn something new\, meet new contacts\, and reconnect with old friends.
URL:https://uofupress.com/event/society-for-american-archaeology-saa/
LOCATION:New Orleans\, LA
CATEGORIES:Conferences
END:VEVENT
END:VCALENDAR