BEGIN:VCALENDAR
VERSION:2.0
PRODID:-//University of Utah Press - ECPv6.15.20//NONSGML v1.0//EN
CALSCALE:GREGORIAN
METHOD:PUBLISH
X-ORIGINAL-URL:https://uofupress.com
X-WR-CALDESC:Events for University of Utah Press
REFRESH-INTERVAL;VALUE=DURATION:PT1H
X-Robots-Tag:noindex
X-PUBLISHED-TTL:PT1H
BEGIN:VTIMEZONE
TZID:America/Denver
BEGIN:DAYLIGHT
TZOFFSETFROM:-0700
TZOFFSETTO:-0600
TZNAME:MDT
DTSTART:20230312T090000
END:DAYLIGHT
BEGIN:STANDARD
TZOFFSETFROM:-0600
TZOFFSETTO:-0700
TZNAME:MST
DTSTART:20231105T080000
END:STANDARD
BEGIN:DAYLIGHT
TZOFFSETFROM:-0700
TZOFFSETTO:-0600
TZNAME:MDT
DTSTART:20240310T090000
END:DAYLIGHT
BEGIN:STANDARD
TZOFFSETFROM:-0600
TZOFFSETTO:-0700
TZNAME:MST
DTSTART:20241103T080000
END:STANDARD
BEGIN:DAYLIGHT
TZOFFSETFROM:-0700
TZOFFSETTO:-0600
TZNAME:MDT
DTSTART:20250309T090000
END:DAYLIGHT
BEGIN:STANDARD
TZOFFSETFROM:-0600
TZOFFSETTO:-0700
TZNAME:MST
DTSTART:20251102T080000
END:STANDARD
END:VTIMEZONE
BEGIN:VEVENT
DTSTART;VALUE=DATE:20240304
DTEND;VALUE=DATE:20240308
DTSTAMP:20260421T063516
CREATED:20240124T193948Z
LAST-MODIFIED:20240125T201114Z
UID:3338-1709510400-1709855999@uofupress.com
SUMMARY:Public Lands Alliance (PLA)
DESCRIPTION:The Public Lands Alliance Convention and Trade Show brings together nonprofits\, land management agencies\, and companies to learn\, network\, and engage on public lands issues.
URL:https://uofupress.com/event/public-lands-alliance-pla/
LOCATION:San Francisco\, CA
CATEGORIES:Conferences
ATTACH;FMTTYPE=image/jpeg:https://uofupress.com/wp-content/uploads/sites/55/2024/01/publicLandAlliance.jpg
END:VEVENT
BEGIN:VEVENT
DTSTART;VALUE=DATE:20240307
DTEND;VALUE=DATE:20240311
DTSTAMP:20260421T063516
CREATED:20240124T205246Z
LAST-MODIFIED:20240125T201304Z
UID:3344-1709769600-1710115199@uofupress.com
SUMMARY:Society for California Archaeology (SCA)
DESCRIPTION:Considering Cultural Landscapes: The SCA Annual Meetings provide a venue and platform for more open communication between academic\, agency\, and cultural resource management archaeologists as well as the Native American community.
URL:https://uofupress.com/event/society-for-california-archaeology-sca/
LOCATION:Riverside\, CA
CATEGORIES:Conferences
ATTACH;FMTTYPE=image/jpeg:https://uofupress.com/wp-content/uploads/sites/55/2024/01/sca-meeting.jpg
END:VEVENT
BEGIN:VEVENT
DTSTART;VALUE=DATE:20240313
DTEND;VALUE=DATE:20240317
DTSTAMP:20260421T063516
CREATED:20240124T205545Z
LAST-MODIFIED:20240125T202027Z
UID:3354-1710288000-1710633599@uofupress.com
SUMMARY:Rocky Mountain Council for Latin American Studies (RMCLAS)
DESCRIPTION:The RMCLAS Annual Conference provides an opportunity for scholars and graduate students to share original research on Latin America.
URL:https://uofupress.com/event/rocky-mountain-council-for-latin-american-studies-rmclas/
LOCATION:Salt Lake City\, UT
CATEGORIES:Conferences
ATTACH;FMTTYPE=image/jpeg:https://uofupress.com/wp-content/uploads/sites/55/2024/01/latin-conference.jpg
END:VEVENT
END:VCALENDAR