BEGIN:VCALENDAR
VERSION:2.0
PRODID:-//University of Utah Press - ECPv6.15.20//NONSGML v1.0//EN
CALSCALE:GREGORIAN
METHOD:PUBLISH
X-WR-CALNAME:University of Utah Press
X-ORIGINAL-URL:https://uofupress.com
X-WR-CALDESC:Events for University of Utah Press
REFRESH-INTERVAL;VALUE=DURATION:PT1H
X-Robots-Tag:noindex
X-PUBLISHED-TTL:PT1H
BEGIN:VTIMEZONE
TZID:America/Denver
BEGIN:DAYLIGHT
TZOFFSETFROM:-0700
TZOFFSETTO:-0600
TZNAME:MDT
DTSTART:20240310T090000
END:DAYLIGHT
BEGIN:STANDARD
TZOFFSETFROM:-0600
TZOFFSETTO:-0700
TZNAME:MST
DTSTART:20241103T080000
END:STANDARD
BEGIN:DAYLIGHT
TZOFFSETFROM:-0700
TZOFFSETTO:-0600
TZNAME:MDT
DTSTART:20250309T090000
END:DAYLIGHT
BEGIN:STANDARD
TZOFFSETFROM:-0600
TZOFFSETTO:-0700
TZNAME:MST
DTSTART:20251102T080000
END:STANDARD
BEGIN:DAYLIGHT
TZOFFSETFROM:-0700
TZOFFSETTO:-0600
TZNAME:MDT
DTSTART:20260308T090000
END:DAYLIGHT
BEGIN:STANDARD
TZOFFSETFROM:-0600
TZOFFSETTO:-0700
TZNAME:MST
DTSTART:20261101T080000
END:STANDARD
END:VTIMEZONE
BEGIN:VEVENT
DTSTART;VALUE=DATE:20250423
DTEND;VALUE=DATE:20250428
DTSTAMP:20260422T100513
CREATED:20250108T212638Z
LAST-MODIFIED:20250127T200814Z
UID:6257-1745366400-1745798399@uofupress.com
SUMMARY:Society for American Archaeology (SAA) Annual Meeting
DESCRIPTION:The 90th Annual Meeting will be held April 23–April 27\, 2025\, in Denver\, Colorado. \nThe program is composed of general sessions\, symposia\, forums\, lightning rounds\, posters\, and workshops. The SAA Annual Meeting is the largest gathering of archaeologists of the Americas\, and it offers unparalleled networking opportunities in its exhibit hall\, excursions\, and receptions and career-development opportunities. \nThe meeting has a wide audience that ranges from anyone who has interest in archaeology to experts in the field. Attendees come from all over the United States and from over 45 countries! With a wide variety of presentations and events\, attendees are able to learn something new\, meet new contacts\, and reconnect with old friends.
URL:https://uofupress.com/event/society-for-american-archaeology-saa-annual-meeting/
LOCATION:Denver\, CO
CATEGORIES:Conferences
ORGANIZER;CN="Society for American Archaeology":MAILTO:info@saa.org
END:VEVENT
END:VCALENDAR