BEGIN:VCALENDAR
VERSION:2.0
PRODID:-//University of Utah Press - ECPv6.15.20//NONSGML v1.0//EN
CALSCALE:GREGORIAN
METHOD:PUBLISH
X-WR-CALNAME:University of Utah Press
X-ORIGINAL-URL:https://uofupress.com
X-WR-CALDESC:Events for University of Utah Press
REFRESH-INTERVAL;VALUE=DURATION:PT1H
X-Robots-Tag:noindex
X-PUBLISHED-TTL:PT1H
BEGIN:VTIMEZONE
TZID:America/Denver
BEGIN:DAYLIGHT
TZOFFSETFROM:-0700
TZOFFSETTO:-0600
TZNAME:MDT
DTSTART:20250309T090000
END:DAYLIGHT
BEGIN:STANDARD
TZOFFSETFROM:-0600
TZOFFSETTO:-0700
TZNAME:MST
DTSTART:20251102T080000
END:STANDARD
BEGIN:DAYLIGHT
TZOFFSETFROM:-0700
TZOFFSETTO:-0600
TZNAME:MDT
DTSTART:20260308T090000
END:DAYLIGHT
BEGIN:STANDARD
TZOFFSETFROM:-0600
TZOFFSETTO:-0700
TZNAME:MST
DTSTART:20261101T080000
END:STANDARD
BEGIN:DAYLIGHT
TZOFFSETFROM:-0700
TZOFFSETTO:-0600
TZNAME:MDT
DTSTART:20270314T090000
END:DAYLIGHT
BEGIN:STANDARD
TZOFFSETFROM:-0600
TZOFFSETTO:-0700
TZNAME:MST
DTSTART:20271107T080000
END:STANDARD
END:VTIMEZONE
BEGIN:VEVENT
DTSTART;TZID=America/Denver:20260219T173000
DTEND;TZID=America/Denver:20260219T193000
DTSTAMP:20260419T130636
CREATED:20260210T201736Z
LAST-MODIFIED:20260210T201957Z
UID:10835-1771522200-1771529400@uofupress.com
SUMMARY:Evening with the Author Kerry William Bate\, author of The Life and Times of John Steele: Mormon Kingdom Builder
DESCRIPTION:We are pleased to announce that Kerry Bate will be here to speak about The Life and Times of John Steele Mormon Kingdom Builder (published by The University of Utah Press) on Thursday\, February 19. He will be here from 5:30 to 7:30 p.m.\, will speak at 6:00\, and answer questions and sign books before and after that time.\nAmong the founders of Salt Lake City\, Parowan\, and Las Vegas\, and an explorer of Zion National Park and the Grand Canyon\, John Steele’s legacy is etched across the American West. The Life and Times of John Steele follows the remarkable journey of this Irish-born convert to Mormonism from his birth into scarcity through his final days in Kanarraville\, Utah.\nA fervent believer in utopian ideals\, Steele sought to build an egalitarian Kingdom of Christ in the last days\, becoming a key figure in early Utah history. His multifaceted roles—missionary\, city founder\, militia major\, justice of the peace\, and self-taught doctor using folk medicine\, charms\, and the occult—make his story unique. This meticulously researched biography offers new insights into pivotal events such as the Mountain Meadows Massacre and the communal economics of the Church of Jesus Christ of Latter-day Saints\, drawing from Steele’s extensive personal diaries and papers to bring his complex\, colorful life and times to light.\nThe Life and Times of John Steele Mormon Kingdom Builder. Paperback. $29.95.https://www.benchmarkbooks.com/…/the-life-and-times-of…
URL:https://uofupress.com/event/evening-with-the-author-kerry-william-bate-author-of-the-life-and-times-of-john-steele-mormon-kingdom-builder/
LOCATION:Benchmark Books\, 3269 S Main St\, Ste 250\, South Salt Lake\, Utah\, 84115
END:VEVENT
BEGIN:VEVENT
DTSTART;TZID=America/Denver:20260219T190000
DTEND;TZID=America/Denver:20260219T210000
DTSTAMP:20260419T130636
CREATED:20260210T202308Z
LAST-MODIFIED:20260210T202308Z
UID:10839-1771527600-1771534800@uofupress.com
SUMMARY:Agha Shahid Ali Prize in Poetry Reading
DESCRIPTION:Ange Mlinko author of Foxglovewise and Dan Murphy\, author of Estate Sale will read from their works at the Finch Lane Art Gallery
URL:https://uofupress.com/event/agha-shahid-ali-prize-in-poetry-reading/
LOCATION:Finch Lane Art Gallery\, 54 Finch Lane\, Salt Lake City\, Utah\, 84112
END:VEVENT
END:VCALENDAR