BEGIN:VCALENDAR
VERSION:2.0
PRODID:-//University of Utah Press - ECPv6.15.20//NONSGML v1.0//EN
CALSCALE:GREGORIAN
METHOD:PUBLISH
X-WR-CALNAME:University of Utah Press
X-ORIGINAL-URL:https://uofupress.com
X-WR-CALDESC:Events for University of Utah Press
REFRESH-INTERVAL;VALUE=DURATION:PT1H
X-Robots-Tag:noindex
X-PUBLISHED-TTL:PT1H
BEGIN:VTIMEZONE
TZID:America/Denver
BEGIN:DAYLIGHT
TZOFFSETFROM:-0700
TZOFFSETTO:-0600
TZNAME:MDT
DTSTART:20240310T090000
END:DAYLIGHT
BEGIN:STANDARD
TZOFFSETFROM:-0600
TZOFFSETTO:-0700
TZNAME:MST
DTSTART:20241103T080000
END:STANDARD
BEGIN:DAYLIGHT
TZOFFSETFROM:-0700
TZOFFSETTO:-0600
TZNAME:MDT
DTSTART:20250309T090000
END:DAYLIGHT
BEGIN:STANDARD
TZOFFSETFROM:-0600
TZOFFSETTO:-0700
TZNAME:MST
DTSTART:20251102T080000
END:STANDARD
BEGIN:DAYLIGHT
TZOFFSETFROM:-0700
TZOFFSETTO:-0600
TZNAME:MDT
DTSTART:20260308T090000
END:DAYLIGHT
BEGIN:STANDARD
TZOFFSETFROM:-0600
TZOFFSETTO:-0700
TZNAME:MST
DTSTART:20261101T080000
END:STANDARD
END:VTIMEZONE
BEGIN:VEVENT
DTSTART;VALUE=DATE:20251005
DTEND;VALUE=DATE:20251013
DTSTAMP:20260419T192344
CREATED:20250813T224206Z
LAST-MODIFIED:20250814T002320Z
UID:8354-1759622400-1760313599@uofupress.com
SUMMARY:Steve Kemp - Iowa City Book Festival
DESCRIPTION:The 17th annual Iowa City Book Festival will be held Oct. 5-12\, 2025\, at locations throughout downtown and beyond. It will showcase a dynamic mix of original events and collaborative programs with partner organizations\, all celebrating the power of the written word and the exchange of ideas. \nDates and event listings for the 2025 festival will be posted when they are available.
URL:https://uofupress.com/event/steve-kemp-iowa-city-book-festival/
LOCATION:Iowa City\, IA\, IA\, United States
CATEGORIES:Author Event
END:VEVENT
END:VCALENDAR