BEGIN:VCALENDAR
VERSION:2.0
PRODID:-//University of Utah Press - ECPv6.15.20//NONSGML v1.0//EN
CALSCALE:GREGORIAN
METHOD:PUBLISH
X-WR-CALNAME:University of Utah Press
X-ORIGINAL-URL:https://uofupress.com
X-WR-CALDESC:Events for University of Utah Press
REFRESH-INTERVAL;VALUE=DURATION:PT1H
X-Robots-Tag:noindex
X-PUBLISHED-TTL:PT1H
BEGIN:VTIMEZONE
TZID:America/Denver
BEGIN:DAYLIGHT
TZOFFSETFROM:-0700
TZOFFSETTO:-0600
TZNAME:MDT
DTSTART:20240310T090000
END:DAYLIGHT
BEGIN:STANDARD
TZOFFSETFROM:-0600
TZOFFSETTO:-0700
TZNAME:MST
DTSTART:20241103T080000
END:STANDARD
BEGIN:DAYLIGHT
TZOFFSETFROM:-0700
TZOFFSETTO:-0600
TZNAME:MDT
DTSTART:20250309T090000
END:DAYLIGHT
BEGIN:STANDARD
TZOFFSETFROM:-0600
TZOFFSETTO:-0700
TZNAME:MST
DTSTART:20251102T080000
END:STANDARD
BEGIN:DAYLIGHT
TZOFFSETFROM:-0700
TZOFFSETTO:-0600
TZNAME:MDT
DTSTART:20260308T090000
END:DAYLIGHT
BEGIN:STANDARD
TZOFFSETFROM:-0600
TZOFFSETTO:-0700
TZNAME:MST
DTSTART:20261101T080000
END:STANDARD
END:VTIMEZONE
BEGIN:VEVENT
DTSTART;TZID=America/Denver:20250915T080000
DTEND;TZID=America/Denver:20250920T170000
DTSTAMP:20260419T205611
CREATED:20250813T201748Z
LAST-MODIFIED:20250813T201748Z
UID:8330-1757923200-1758387600@uofupress.com
SUMMARY:Lori Wrankle - Southern Utah Book Festival
DESCRIPTION:The 2nd annual Southern Utah Book Festival will be held September 15-20\, 2025\, in Cedar City. Our website will update as we continue to solidify plans for this year. You can expect to engage with more of your favorite authors and illustrators during this free festival.
URL:https://uofupress.com/event/lori-wrankle-southern-utah-book-festival/
LOCATION:Cedar City\, UT\, Cedar City\, UT\, United States
CATEGORIES:Author Event
END:VEVENT
BEGIN:VEVENT
DTSTART;TZID=America/Denver:20250919T090000
DTEND;TZID=America/Denver:20250919T161500
DTSTAMP:20260419T205611
CREATED:20250909T183920Z
LAST-MODIFIED:20250909T183920Z
UID:8711-1758272400-1758298500@uofupress.com
SUMMARY:The Water Commons: Living Legacies of Utah Waterways
DESCRIPTION:Date & Time: Friday\, September 19\, 2025\n9:00am-4:15pm\nLocation: Gould Auditorium\, Marriott Library\n\nThis symposium works to coordinate efforts to preserve the waterways that are the basis of life\, health\, and prosperity for all life in Utah. \nGather with local water scholars\, stewards\, and artists to learn about ongoing projects\, discover practices of stewardship from stakeholders across the state\, and participate in fostering networks for further collaboration. \nWe will share strategies of sustainability and water management as well as oral history and art projects to document and preserve stories and histories of the Colorado River\, the Bear River\, Great Salt Lake\, and Utah Lake. \nFree and open to public and academic audiences. \n\n\n 
URL:https://uofupress.com/event/the-water-commons-living-legacies-of-utah-waterways/
LOCATION:J. Willard Marriott Library\, Gould Auditorium\, 295 S 1500 E\, Salt Lake City\, Utah\, 84112
END:VEVENT
END:VCALENDAR