BEGIN:VCALENDAR
VERSION:2.0
PRODID:-//University of Utah Press - ECPv6.15.20//NONSGML v1.0//EN
CALSCALE:GREGORIAN
METHOD:PUBLISH
X-ORIGINAL-URL:https://uofupress.com
X-WR-CALDESC:Events for University of Utah Press
REFRESH-INTERVAL;VALUE=DURATION:PT1H
X-Robots-Tag:noindex
X-PUBLISHED-TTL:PT1H
BEGIN:VTIMEZONE
TZID:America/Denver
BEGIN:DAYLIGHT
TZOFFSETFROM:-0700
TZOFFSETTO:-0600
TZNAME:MDT
DTSTART:20230312T090000
END:DAYLIGHT
BEGIN:STANDARD
TZOFFSETFROM:-0600
TZOFFSETTO:-0700
TZNAME:MST
DTSTART:20231105T080000
END:STANDARD
BEGIN:DAYLIGHT
TZOFFSETFROM:-0700
TZOFFSETTO:-0600
TZNAME:MDT
DTSTART:20240310T090000
END:DAYLIGHT
BEGIN:STANDARD
TZOFFSETFROM:-0600
TZOFFSETTO:-0700
TZNAME:MST
DTSTART:20241103T080000
END:STANDARD
BEGIN:DAYLIGHT
TZOFFSETFROM:-0700
TZOFFSETTO:-0600
TZNAME:MDT
DTSTART:20250309T090000
END:DAYLIGHT
BEGIN:STANDARD
TZOFFSETFROM:-0600
TZOFFSETTO:-0700
TZNAME:MST
DTSTART:20251102T080000
END:STANDARD
END:VTIMEZONE
BEGIN:VEVENT
DTSTART;TZID=America/Denver:20241124T170000
DTEND;TZID=America/Denver:20241124T180000
DTSTAMP:20260421T173539
CREATED:20240819T173033Z
LAST-MODIFIED:20250127T200850Z
UID:6002-1732467600-1732471200@uofupress.com
SUMMARY:Betsy Howell - Wild Forest Home: Stories of Conservation in the Pacific Northwest
DESCRIPTION:Join Village Books and North Cascades Institute in the last Nature of Writing event of 2024 with Betsy Howell as talks about her new book Wild Forest Home: Stories of Conservation in the Pacific Northwest! \nGrowing up in the Pacific Northwest\, Betsy Howell spent her childhood exploring and thriving in old-growth coniferous forests. In the summer of 1986\, she volunteered in Mt. Hood National Forest\, surveying northern spotted owls. That position turned into three decades as a wildlife biologist with the U.S. Forest Service agency. \nBetsy L. Howell is a writer and wildlife biologist living on Washington State’s Olympic Peninsula. She has worked as a biologist since 1986 and earned her bachelor’s degree in wildlife management at Washington State University. She began writing in 1998 and has published articles on natural history and travel in American Forests\, Earth Island Journal\, The Wildlife Professional\, South Loop Review\, Clackamas Literary Review\, Apple Valley Review\, 1859 Oregon’s Magazine\, and Prairie Fire. Her two previous books are Acoustic Shadows\, Men at War and a Daughter Who Remembers Them\, a memoir about her father and great-great-grandfather and their lives as soldiers; and The Marvelous Orange Tree\, A Novel of the Civil War\, a story chronicling the life and war experiences of a woman soldier from the time. She is a member of The Wildlife Society\, Partners in Amphibian and Reptile Conservation\, the Martes Working Group\, and the Author’s Guild.
URL:https://uofupress.com/event/betsy-howell-wild-forest-home-stories-of-conservation-in-the-pacific-northwest/
LOCATION:Village Books and Paper Dreams\, 1200 11th St\, Bellingham\, WA\, 98225\, United States
CATEGORIES:Author Event
END:VEVENT
END:VCALENDAR