BEGIN:VCALENDAR
VERSION:2.0
PRODID:-//University of Utah Press - ECPv6.15.20//NONSGML v1.0//EN
CALSCALE:GREGORIAN
METHOD:PUBLISH
X-ORIGINAL-URL:https://uofupress.com
X-WR-CALDESC:Events for University of Utah Press
REFRESH-INTERVAL;VALUE=DURATION:PT1H
X-Robots-Tag:noindex
X-PUBLISHED-TTL:PT1H
BEGIN:VTIMEZONE
TZID:America/Denver
BEGIN:DAYLIGHT
TZOFFSETFROM:-0700
TZOFFSETTO:-0600
TZNAME:MDT
DTSTART:20230312T090000
END:DAYLIGHT
BEGIN:STANDARD
TZOFFSETFROM:-0600
TZOFFSETTO:-0700
TZNAME:MST
DTSTART:20231105T080000
END:STANDARD
BEGIN:DAYLIGHT
TZOFFSETFROM:-0700
TZOFFSETTO:-0600
TZNAME:MDT
DTSTART:20240310T090000
END:DAYLIGHT
BEGIN:STANDARD
TZOFFSETFROM:-0600
TZOFFSETTO:-0700
TZNAME:MST
DTSTART:20241103T080000
END:STANDARD
BEGIN:DAYLIGHT
TZOFFSETFROM:-0700
TZOFFSETTO:-0600
TZNAME:MDT
DTSTART:20250309T090000
END:DAYLIGHT
BEGIN:STANDARD
TZOFFSETFROM:-0600
TZOFFSETTO:-0700
TZNAME:MST
DTSTART:20251102T080000
END:STANDARD
END:VTIMEZONE
BEGIN:VEVENT
DTSTART;TZID=America/Denver:20241119T120000
DTEND;TZID=America/Denver:20241119T120000
DTSTAMP:20260421T173532
CREATED:20240905T210350Z
LAST-MODIFIED:20250127T200858Z
UID:6027-1732017600-1732017600@uofupress.com
SUMMARY:Jody Olsen: Hope\, Purpose\, and Service in Times of Change
DESCRIPTION:Jody Olsen\, author of A Million Miles: My Peace Corp Journey will be speaking at the Hinckley Institute Forum on Hope\, Purpose\, and Service in Times of Change. \n  \n\nDr. Josephine (Jody) Olsen\, PhD\, served as the 20th Director of the Peace Corps between March\, 2018 – January\, 2021. With the beginning of the global COVID-19 pandemic\, Dr. Olsen made the unprecedented decision to evacuate all 7\,000 Peace Corps Volunteers and bring them safely back to the United States. Dr. Olsen then led the development of a comprehensive re-entry plan for Volunteers to return to service and expanded what it means to serve\, launching the Virtual Service Pilot Program. She also championed global women’s economic empowerment\, opened a new country\, Viet Nam\, and re-opened three countries in which Peace Corps had previously served.Dr. Olsen began her career as a Peace Corps Volunteer\, serving in Tunisia from 196601968. She has also served the agency as Acting Director (2009)\, Deputy Director (2002-2009)\, Chief of Staff (1989-1992)\, Regional Director (1981-1984)\, and Country Director (1979-1981).\nPrior to returning to the Peace Corps in 2018\, Dr. Olsen was Visiting Professor at the University of Maryland-Baltimore School of Social Work and Director of the University’s Center for Global Education. In this capacity she developed and directed inter-professional global health projects for health graduate students\, oversaw health research projects in Malawi\, and taught international social work\, global social policy\, and global health. \nDr. Olsen received a BS from the University of Utah\, and a Master’s in Social Work and a PhD in Human Development from the University of Maryland. \nThroughout her career\, Dr. Olsen has championed the expansion of service\, learning and international opportunities for Americans of all backgrounds.\n\n  \nCosponsored by:  \n\nThe University of Utah Press\nThe Tanner Center for Human Rights\nThe Office of Global Engagement
URL:https://uofupress.com/event/jody-olsen-author-of-a-million-miles-my-peace-corp-journey-hinckley-forum/
LOCATION:Hinkley Caucus Room\, 260 Central Campus Dr\, Salt Lake City\, UT\, 84112\, United States
CATEGORIES:Author Event
END:VEVENT
END:VCALENDAR