BEGIN:VCALENDAR
VERSION:2.0
PRODID:-//University of Utah Press - ECPv6.15.20//NONSGML v1.0//EN
CALSCALE:GREGORIAN
METHOD:PUBLISH
X-WR-CALNAME:University of Utah Press
X-ORIGINAL-URL:https://uofupress.com
X-WR-CALDESC:Events for University of Utah Press
REFRESH-INTERVAL;VALUE=DURATION:PT1H
X-Robots-Tag:noindex
X-PUBLISHED-TTL:PT1H
BEGIN:VTIMEZONE
TZID:America/Denver
BEGIN:DAYLIGHT
TZOFFSETFROM:-0700
TZOFFSETTO:-0600
TZNAME:MDT
DTSTART:20230312T090000
END:DAYLIGHT
BEGIN:STANDARD
TZOFFSETFROM:-0600
TZOFFSETTO:-0700
TZNAME:MST
DTSTART:20231105T080000
END:STANDARD
BEGIN:DAYLIGHT
TZOFFSETFROM:-0700
TZOFFSETTO:-0600
TZNAME:MDT
DTSTART:20240310T090000
END:DAYLIGHT
BEGIN:STANDARD
TZOFFSETFROM:-0600
TZOFFSETTO:-0700
TZNAME:MST
DTSTART:20241103T080000
END:STANDARD
BEGIN:DAYLIGHT
TZOFFSETFROM:-0700
TZOFFSETTO:-0600
TZNAME:MDT
DTSTART:20250309T090000
END:DAYLIGHT
BEGIN:STANDARD
TZOFFSETFROM:-0600
TZOFFSETTO:-0700
TZNAME:MST
DTSTART:20251102T080000
END:STANDARD
END:VTIMEZONE
BEGIN:VEVENT
DTSTART;TZID=America/Denver:20241114T190000
DTEND;TZID=America/Denver:20241114T200000
DTSTAMP:20260421T173432
CREATED:20241002T175141Z
LAST-MODIFIED:20250127T200912Z
UID:6078-1731610800-1731614400@uofupress.com
SUMMARY:Agha Shahid Ali Prize Reading
DESCRIPTION:Guest Writers Series presents Sara Ellen Fowler\, author of Two Signatures and Winner of Agha Shahid Ali Prize and Joan Naviyuk Kane\, author of Ex Machina.
URL:https://uofupress.com/event/agha-shahid-ali-prize-reading/
LOCATION:Finch Lane Art Gallery\, 54 Finch Lane\, Salt Lake City\, Utah\, 84112
CATEGORIES:Author Event
END:VEVENT
END:VCALENDAR