BEGIN:VCALENDAR
VERSION:2.0
PRODID:-//University of Utah Press - ECPv6.15.20//NONSGML v1.0//EN
CALSCALE:GREGORIAN
METHOD:PUBLISH
X-WR-CALNAME:University of Utah Press
X-ORIGINAL-URL:https://uofupress.com
X-WR-CALDESC:Events for University of Utah Press
REFRESH-INTERVAL;VALUE=DURATION:PT1H
X-Robots-Tag:noindex
X-PUBLISHED-TTL:PT1H
BEGIN:VTIMEZONE
TZID:America/Denver
BEGIN:DAYLIGHT
TZOFFSETFROM:-0700
TZOFFSETTO:-0600
TZNAME:MDT
DTSTART:20230312T090000
END:DAYLIGHT
BEGIN:STANDARD
TZOFFSETFROM:-0600
TZOFFSETTO:-0700
TZNAME:MST
DTSTART:20231105T080000
END:STANDARD
BEGIN:DAYLIGHT
TZOFFSETFROM:-0700
TZOFFSETTO:-0600
TZNAME:MDT
DTSTART:20240310T090000
END:DAYLIGHT
BEGIN:STANDARD
TZOFFSETFROM:-0600
TZOFFSETTO:-0700
TZNAME:MST
DTSTART:20241103T080000
END:STANDARD
BEGIN:DAYLIGHT
TZOFFSETFROM:-0700
TZOFFSETTO:-0600
TZNAME:MDT
DTSTART:20250309T090000
END:DAYLIGHT
BEGIN:STANDARD
TZOFFSETFROM:-0600
TZOFFSETTO:-0700
TZNAME:MST
DTSTART:20251102T080000
END:STANDARD
END:VTIMEZONE
BEGIN:VEVENT
DTSTART;VALUE=DATE:20240912
DTEND;VALUE=DATE:20240916
DTSTAMP:20260421T144151
CREATED:20240730T222449Z
LAST-MODIFIED:20240730T222449Z
UID:5016-1726099200-1726444799@uofupress.com
SUMMARY:John Whitmer Historical Association (JWHA)
DESCRIPTION:Join Acquisitions Editor Jedediah Rogers Sept 12-15 at the John Whitmer Historical Association’s annual conference in St. George\, Utah Dixie Conference Center. More information to come.
URL:https://uofupress.com/event/john-whitmer-historical-association-jwha/
LOCATION:St. George\, UT
CATEGORIES:Conferences
END:VEVENT
END:VCALENDAR