BEGIN:VCALENDAR
VERSION:2.0
PRODID:-//University of Utah Press - ECPv6.15.20//NONSGML v1.0//EN
CALSCALE:GREGORIAN
METHOD:PUBLISH
X-ORIGINAL-URL:https://uofupress.com
X-WR-CALDESC:Events for University of Utah Press
REFRESH-INTERVAL;VALUE=DURATION:PT1H
X-Robots-Tag:noindex
X-PUBLISHED-TTL:PT1H
BEGIN:VTIMEZONE
TZID:America/Denver
BEGIN:DAYLIGHT
TZOFFSETFROM:-0700
TZOFFSETTO:-0600
TZNAME:MDT
DTSTART:20230312T090000
END:DAYLIGHT
BEGIN:STANDARD
TZOFFSETFROM:-0600
TZOFFSETTO:-0700
TZNAME:MST
DTSTART:20231105T080000
END:STANDARD
BEGIN:DAYLIGHT
TZOFFSETFROM:-0700
TZOFFSETTO:-0600
TZNAME:MDT
DTSTART:20240310T090000
END:DAYLIGHT
BEGIN:STANDARD
TZOFFSETFROM:-0600
TZOFFSETTO:-0700
TZNAME:MST
DTSTART:20241103T080000
END:STANDARD
BEGIN:DAYLIGHT
TZOFFSETFROM:-0700
TZOFFSETTO:-0600
TZNAME:MDT
DTSTART:20250309T090000
END:DAYLIGHT
BEGIN:STANDARD
TZOFFSETFROM:-0600
TZOFFSETTO:-0700
TZNAME:MST
DTSTART:20251102T080000
END:STANDARD
END:VTIMEZONE
BEGIN:VEVENT
DTSTART;TZID=America/Denver:20240824T180000
DTEND;TZID=America/Denver:20240824T200000
DTSTAMP:20260421T144429
CREATED:20240730T172240Z
LAST-MODIFIED:20240730T214808Z
UID:4351-1724522400-1724529600@uofupress.com
SUMMARY:The Book of Bauer Reading & Signing with Stephen Lottridge at Ken Sanders Rare Books
DESCRIPTION:Proudly presented by Ken Sanders Rare Books\, The Utah Humanities Council\, and The University of Utah Press.\nJoin us in welcoming Stephen S Lottridge for a discussion and signing of The Book of Bauer: Stories from a Forgotten Town. \nSaturday\, Aug. 24 | 6-8 PM\nat Ken Sanders Rare Books\n209 East 500 South\nSalt Lake City\, Utah \nAbout Book of Bauer:\nGraffiti-covered industrial concrete ruins are all that remain today to remind us of the lives\, adventures\, and human relationships that once animated Bauer\, Utah. Located just south of Tooele\, across the Oquirrh Mountains west of the Salt Lake Valley\, Bauer was abandoned in 1979 and declared a toxic waste site. The Book of Bauer: Stories from a Forgotten Town brings it back to life\, evoking mid-twentieth century family and community in that company town as seen through the eyes of an observant adolescent boy. \nPresenting a dramatic snapshot of life in Bauer in narrative autobiographical form\, the book recalls the fate of hundreds of derelict mining towns throughout the mountain and sagebrush West. With vivid prose and intimate observation\, The Book of Bauer offers an unparalleled memoir of small-town life in Utah and the Great Basin. \nAbout Stephen Lottridge:\nStephen S. Lottridge is the author of Three White Pelicans: Stories for Stephanie and Deirdre and The Old Bison: Threads from the Fabric of a Western Life. His award-winning play Gun Control was produced by Riot Act Inc. theater company. His poetry and essays have appeared in print journals\, anthologies\, and online. \nEvent is free\, all ages\, and open to the public.
URL:https://uofupress.com/event/the-book-of-bauer-reading-signing-with-stephen-lottridge-at-ken-sanders-rare-books/
LOCATION:Ken Sanders Rare Books\, 209 East 500 South\, Salt Lake City\, Utah\, 84111
CATEGORIES:Author Event
ORGANIZER;CN="Ken Sanders Rare Books":MAILTO:hattie@kensandersbooks.com
END:VEVENT
END:VCALENDAR